BEGIN:VCALENDAR
VERSION:2.0
PRODID:-//Walkern Parish Council - ECPv6.15.20//NONSGML v1.0//EN
CALSCALE:GREGORIAN
METHOD:PUBLISH
X-WR-CALNAME:Walkern Parish Council
X-ORIGINAL-URL:https://walkernparishcouncil.gov.uk
X-WR-CALDESC:Events for Walkern Parish Council
REFRESH-INTERVAL;VALUE=DURATION:PT1H
X-Robots-Tag:noindex
X-PUBLISHED-TTL:PT1H
BEGIN:VTIMEZONE
TZID:UTC
BEGIN:STANDARD
TZOFFSETFROM:+0000
TZOFFSETTO:+0000
TZNAME:UTC
DTSTART:20190101T000000
END:STANDARD
END:VTIMEZONE
BEGIN:VEVENT
DTSTART;TZID=UTC:20210401T190000
DTEND;TZID=UTC:20210401T190000
DTSTAMP:20260416T203802
CREATED:20210104T152915Z
LAST-MODIFIED:20210104T152915Z
UID:8819-1617303600-1617303600@walkernparishcouncil.gov.uk
SUMMARY:Parish Council Meeting
DESCRIPTION:This meeting will be held remotely via Zoom. Members of the public are welcome to join; please see the agenda for joining details.
URL:https://walkernparishcouncil.gov.uk/event/parish-council-meeting-via-zoom-4
LOCATION:Online
CATEGORIES:Parish Council Meetings
END:VEVENT
BEGIN:VEVENT
DTSTART;TZID=UTC:20210304T190000
DTEND;TZID=UTC:20210304T190000
DTSTAMP:20260416T203802
CREATED:20210104T152832Z
LAST-MODIFIED:20210104T152832Z
UID:8816-1614884400-1614884400@walkernparishcouncil.gov.uk
SUMMARY:Parish Council Meeting
DESCRIPTION:This meeting will be held remotely via Zoom. Members of the public are welcome to join; please see the agenda for joining details.
URL:https://walkernparishcouncil.gov.uk/event/parish-council-meeting-via-zoom-3
LOCATION:Online
CATEGORIES:Parish Council Meetings
END:VEVENT
BEGIN:VEVENT
DTSTART;TZID=UTC:20210204T190000
DTEND;TZID=UTC:20210204T190000
DTSTAMP:20260416T203802
CREATED:20210104T152736Z
LAST-MODIFIED:20210104T152736Z
UID:8813-1612465200-1612465200@walkernparishcouncil.gov.uk
SUMMARY:Parish Council Meeting
DESCRIPTION:This meeting will be held remotely via Zoom. Members of the public are welcome to join; please see the agenda for joining details.
URL:https://walkernparishcouncil.gov.uk/event/parish-council-meeting-via-zoom-2
LOCATION:Online
CATEGORIES:Parish Council Meetings
END:VEVENT
BEGIN:VEVENT
DTSTART;TZID=UTC:20210107T190000
DTEND;TZID=UTC:20210107T190000
DTSTAMP:20260416T203802
CREATED:20210104T151909Z
LAST-MODIFIED:20210104T152548Z
UID:8809-1610046000-1610046000@walkernparishcouncil.gov.uk
SUMMARY:Parish Council Meeting
DESCRIPTION:This meeting will be held remotely via Zoom. Members of the public are welcome to join; please see the agenda for joining details.
URL:https://walkernparishcouncil.gov.uk/event/parish-council-meeting-via-zoom
LOCATION:Online
CATEGORIES:Parish Council Meetings
END:VEVENT
BEGIN:VEVENT
DTSTART;TZID=UTC:20201210T200000
DTEND;TZID=UTC:20201210T200000
DTSTAMP:20260416T203802
CREATED:20201210T103248Z
LAST-MODIFIED:20201210T103248Z
UID:795-1607630400-1607630400@walkernparishcouncil.gov.uk
SUMMARY:Parish Council Meeting
DESCRIPTION:This meeting will be held online. Members of the public are welcome to join; please see the agenda for meeting details.
URL:https://walkernparishcouncil.gov.uk/event/parish-council-meeting-5
LOCATION:Online
CATEGORIES:Parish Council Meetings
END:VEVENT
BEGIN:VEVENT
DTSTART;TZID=UTC:20201112T200000
DTEND;TZID=UTC:20201112T200000
DTSTAMP:20260416T203802
CREATED:20201109T210322Z
LAST-MODIFIED:20201109T210322Z
UID:758-1605211200-1605211200@walkernparishcouncil.gov.uk
SUMMARY:Parish Council Meeting
DESCRIPTION:This meeting will be held online. Members of the public are welcome to join.
URL:https://walkernparishcouncil.gov.uk/event/parish-council-meeting-4
LOCATION:Online
CATEGORIES:Parish Council Meetings
END:VEVENT
BEGIN:VEVENT
DTSTART;TZID=UTC:20200917T190000
DTEND;TZID=UTC:20200917T190000
DTSTAMP:20260416T203802
CREATED:20200915T073406Z
LAST-MODIFIED:20200915T073406Z
UID:704-1600369200-1600369200@walkernparishcouncil.gov.uk
SUMMARY:Extra-ordinary Parish Council Meeting
DESCRIPTION:This meeting will be held on Zoom.
URL:https://walkernparishcouncil.gov.uk/event/extra-ordinary-parish-council-meeting
LOCATION:Online
CATEGORIES:Parish Council Meetings
END:VEVENT
BEGIN:VEVENT
DTSTART;TZID=UTC:20200903T190000
DTEND;TZID=UTC:20200903T190000
DTSTAMP:20260416T203802
CREATED:20200902T080845Z
LAST-MODIFIED:20200902T080845Z
UID:688-1599159600-1599159600@walkernparishcouncil.gov.uk
SUMMARY:Parish Council Meeting
DESCRIPTION:This meeting will be held at the Walkern Sports & Community Centre. Members of the public are welcome to attend.
URL:https://walkernparishcouncil.gov.uk/event/parish-council-meeting-3
LOCATION:Walkern Sports & Community Centre
CATEGORIES:Parish Council Meetings
END:VEVENT
BEGIN:VEVENT
DTSTART;TZID=UTC:20200806T190000
DTEND;TZID=UTC:20200806T190000
DTSTAMP:20260416T203802
CREATED:20200722T204423Z
LAST-MODIFIED:20200806T120755Z
UID:660-1596740400-1596740400@walkernparishcouncil.gov.uk
SUMMARY:Parish Council Meeting
DESCRIPTION:This meeting will be held at Walkern Sports & Community Centre. Members of the public are welcome to join\, social distancing guidelines must be adhered to.
URL:https://walkernparishcouncil.gov.uk/event/parish-council-meeting-2
LOCATION:Online
CATEGORIES:Parish Council Meetings
END:VEVENT
BEGIN:VEVENT
DTSTART;TZID=UTC:20200604T200000
DTEND;TZID=UTC:20200604T200000
DTSTAMP:20260416T203802
CREATED:20200526T091818Z
LAST-MODIFIED:20200526T091818Z
UID:479-1591300800-1591300800@walkernparishcouncil.gov.uk
SUMMARY:Parish Council Meeting
DESCRIPTION:This meeting will be held online. Members of the public are welcome to join; please contact the Clerk for the meeting details
URL:https://walkernparishcouncil.gov.uk/event/parish-council-meeting
LOCATION:Online
CATEGORIES:Parish Council Meetings
END:VEVENT
BEGIN:VEVENT
DTSTART;TZID=UTC:20200507T190000
DTEND;TZID=UTC:20200507T190000
DTSTAMP:20260416T203802
CREATED:20200506T143724Z
LAST-MODIFIED:20200506T143746Z
UID:374-1588878000-1588878000@walkernparishcouncil.gov.uk
SUMMARY:Annual Parish Council Meeting
DESCRIPTION:The Annual Parish Meeting and the Annual Parish Council meeting of Walkern Parish Council will take place on Thursday 7th May 2020. Meeting will commence at 7.00pm via Zoom. The public and press are cordially invited to attend. Please contact the Clerk via email by 4.00pm at the latest on that day if you wish to join the meeting or if you have any matters you would like raised.
URL:https://walkernparishcouncil.gov.uk/event/annual-parish-council-meeting
LOCATION:Online
CATEGORIES:Parish Council Meetings
END:VEVENT
END:VCALENDAR